Workbook

Sheet Sheet2
A1: 地点：九江城区 检测日期： | F1: =TODAY() -> 46161
A2: 注：累计温度均为累计到检测日期前一天24：00时的温度
A3: 序号 | B3: 日期 | C3: 当天温度（℃） | E3: 平均温度（℃） | F3: 累计温度（℃）
C4: 最低温度 | D4: 最高温度
A5: 1 | B5: 46161 | C5: 22 | D5: 26 | E5: =(C5+D5)/2 -> 24 | F5: =Sheet2!F4+E5 -> 24
A6: 2 | B6: 46160 | C6: 23 | D6: 28 | E6: =(C6+D6)/2 -> 25.5 | F6: =Sheet2!F5+E6 -> 49.5
A7: 3 | B7: 46159 | C7: 22 | D7: 27 | E7: =(C7+D7)/2 -> 24.5 | F7: =Sheet2!F6+E7 -> 74
A8: 4 | B8: 46158 | C8: 23 | D8: 30 | E8: =(C8+D8)/2 -> 26.5 | F8: =Sheet2!F7+E8 -> 100.5
A9: 5 | B9: 46157 | C9: 21 | D9: 27 | E9: =(C9+D9)/2 -> 24 | F9: =Sheet2!F8+E9 -> 124.5
A10: 6 | B10: 46156 | C10: 21 | D10: 26 | E10: =(C10+D10)/2 -> 23.5 | F10: =Sheet2!F9+E10 -> 148
A11: 7 | B11: 46155 | C11: 20 | D11: 25 | E11: =(C11+D11)/2 -> 22.5 | F11: =Sheet2!F10+E11 -> 170.5
A12: 8 | B12: 46154 | C12: 19 | D12: 29 | E12: =(C12+D12)/2 -> 24 | F12: =Sheet2!F11+E12 -> 194.5
A13: 9 | B13: 46153 | C13: 16 | D13: 29 | E13: =(C13+D13)/2 -> 22.5 | F13: =Sheet2!F12+E13 -> 217
A14: 10 | B14: 46152 | C14: 16 | D14: 27 | E14: =(C14+D14)/2 -> 21.5 | F14: =Sheet2!F13+E14 -> 238.5
A15: 11 | B15: 46151 | C15: 15 | D15: 23 | E15: =(C15+D15)/2 -> 19 | F15: =Sheet2!F14+E15 -> 257.5
A16: 12 | B16: 46150 | C16: 14 | D16: 21 | E16: =(C16+D16)/2 -> 17.5 | F16: =Sheet2!F15+E16 -> 275
... A38: 34 | B38: 46128 | C38: 18 | D38: 18 | E38: =(C38+D38)/2 -> 18 | F38: =Sheet2!F37+E38 -> 677
